BEGIN:VCALENDAR
VERSION:2.0
PRODID:-//Save Our Blagrove Countryside 2025 - ECPv6.10.1.1//NONSGML v1.0//EN
CALSCALE:GREGORIAN
METHOD:PUBLISH
X-ORIGINAL-URL:https://evendons-area.org.uk
X-WR-CALDESC:Events for Save Our Blagrove Countryside 2025
REFRESH-INTERVAL;VALUE=DURATION:PT1H
X-Robots-Tag:noindex
X-PUBLISHED-TTL:PT1H
BEGIN:VTIMEZONE
TZID:Europe/London
BEGIN:DAYLIGHT
TZOFFSETFROM:+0000
TZOFFSETTO:+0100
TZNAME:BST
DTSTART:20220327T010000
END:DAYLIGHT
BEGIN:STANDARD
TZOFFSETFROM:+0100
TZOFFSETTO:+0000
TZNAME:GMT
DTSTART:20221030T010000
END:STANDARD
END:VTIMEZONE
BEGIN:VEVENT
DTSTART;TZID=Europe/London:20220712T193000
DTEND;TZID=Europe/London:20220712T210000
DTSTAMP:20260425T115503
CREATED:20220705T131315Z
LAST-MODIFIED:20220705T131315Z
UID:823-1657654200-1657659600@evendons-area.org.uk
SUMMARY:Committee Meeting
DESCRIPTION:Save Our Blagrove Committee meeting at the School – all welcome – Updates and AOB 
URL:https://evendons-area.org.uk/event/committee-meeting-2/
LOCATION:Evendons School\, Evendons Lane\, Wokingham\, United Kingdom
CATEGORIES:Meeting
ORGANIZER;CN="EARA":MAILTO:info@evendons-area.org.uk
END:VEVENT
BEGIN:VEVENT
DTSTART;TZID=Europe/London:20220719T193000
DTEND;TZID=Europe/London:20220719T203000
DTSTAMP:20260425T115503
CREATED:20220714T174756Z
LAST-MODIFIED:20220714T174756Z
UID:863-1658259000-1658262600@evendons-area.org.uk
SUMMARY:Committee Meeting
DESCRIPTION:Committee Meeting – Look at campaigns\, leafleting etc. \nUpdates from all \nNews on Planning Application \nAny other business \n[wpedon id=”844″ align=”right”]
URL:https://evendons-area.org.uk/event/committee-meeting-3/
LOCATION:Evendons School\, Evendons Lane\, Wokingham\, United Kingdom
END:VEVENT
BEGIN:VEVENT
DTSTART;TZID=Europe/London:20220722T190000
DTEND;TZID=Europe/London:20220722T200000
DTSTAMP:20260425T115503
CREATED:20220714T174200Z
LAST-MODIFIED:20220714T174200Z
UID:861-1658516400-1658520000@evendons-area.org.uk
SUMMARY:Community Walk
DESCRIPTION:Join us on Friday 22nd July at 7:00 pm for a Community Walk to view the landscape impacted by the proposed development.  \nWe will meet at the entrance of Viking Field\, just off Tanners Row.\, and the walk will finish at the Leathern Bottel pub around one hour later. \nWe plan to start in Viking Field and move through Leslie Sears field to Blagrove and Doles Lanes\, showing the size and location of the proposed development and highlighting the countryside\, fields and hedgerows that will be torn up. The land currently hosts a rich diversity of wildlife\, including deer\, badgers\, hedgehogs\, woodpeckers\, owls and many more. It has remained unspoilt; however\, a 375-house development is proposed by Berkeley Homes\, which the residents of the area oppose. We will answer questions you might have during the walk. 
URL:https://evendons-area.org.uk/event/community-walk/
LOCATION:Viking Field
ORGANIZER;CN="EARA":MAILTO:info@evendons-area.org.uk
END:VEVENT
BEGIN:VEVENT
DTSTART;TZID=Europe/London:20220726T193000
DTEND;TZID=Europe/London:20220726T203000
DTSTAMP:20260425T115503
CREATED:20220714T174927Z
LAST-MODIFIED:20220726T110418Z
UID:865-1658863800-1658867400@evendons-area.org.uk
SUMMARY:Committee Meeting
DESCRIPTION:Committee Meeting – Look at campaigns\, leafleting etc. \nUpdates from all \nNews on Planning Application \nAny other business \n[wpedon id=”844″ align=”right”]
URL:https://evendons-area.org.uk/event/committee-meeting-4/
LOCATION:To be confirmed\, Wokingham\, United Kingdom
CATEGORIES:Meeting
ORGANIZER;CN="EARA":MAILTO:info@evendons-area.org.uk
END:VEVENT
BEGIN:VEVENT
DTSTART;TZID=Europe/London:20220802T193000
DTEND;TZID=Europe/London:20220802T210000
DTSTAMP:20260425T115503
CREATED:20220726T111307Z
LAST-MODIFIED:20220726T111307Z
UID:1026-1659468600-1659474000@evendons-area.org.uk
SUMMARY:Committee Meeting
DESCRIPTION:Committee Meeting – Look at campaigns\, leafleting etc. \nUpdates from all \nNews on Planning Application \nAny other business
URL:https://evendons-area.org.uk/event/committee-meeting-5/
LOCATION:Evendons School\, Evendons Lane\, Wokingham\, United Kingdom
ORGANIZER;CN="EARA":MAILTO:info@evendons-area.org.uk
END:VEVENT
BEGIN:VEVENT
DTSTART;TZID=Europe/London:20220807T160000
DTEND;TZID=Europe/London:20220807T173000
DTSTAMP:20260425T115503
CREATED:20220726T110900Z
LAST-MODIFIED:20220726T110900Z
UID:1024-1659888000-1659893400@evendons-area.org.uk
SUMMARY:Community Walk and Talk
DESCRIPTION:Join us on Sunday 7th August at 4:00 pm for a Community Walk and Talk to view the landscape impacted by the proposed development.  \nWe will meet at the entrance of Viking Field\, just off Tanners Row. The walk will finish at the Leathern Bottel pub around one hour later. \nWe plan to start in Viking Field and move through Leslie Sears field to Blagrove and Doles Lanes\, showing the size and location of the proposed development and highlighting the countryside\, fields and hedgerows that will be torn up. The land currently hosts a rich diversity of wildlife\, including deer\, badgers\, hedgehogs\, woodpeckers\, owls and many more. It has remained unspoilt; however\, a 375-house development is proposed by Berkeley Homes\, which the residents of the area oppose. We will answer questions you might have during the walk. 
URL:https://evendons-area.org.uk/event/community-walk-and-talk/
LOCATION:Viking Field
ORGANIZER;CN="EARA":MAILTO:info@evendons-area.org.uk
END:VEVENT
BEGIN:VEVENT
DTSTART;TZID=Europe/London:20220816T100000
DTEND;TZID=Europe/London:20220816T230000
DTSTAMP:20260425T115503
CREATED:20220811T115329Z
LAST-MODIFIED:20220811T115329Z
UID:1264-1660644000-1660690800@evendons-area.org.uk
SUMMARY:Public Drop-in Session for Advice on Planning Objection
DESCRIPTION:Meet members of the Save our Blagrove Campaign. \nAsk your questions about the Berkeley Homes Planning Application at Wokingham Evendons Area. \nPlease come along and ask any questions you may have. \nGet advice on how to object on the council Planning Portal.
URL:https://evendons-area.org.uk/event/public-drop-in-session-for-advice-on-planning-objection/
LOCATION:Kimel Cafe\, Evendons Lane\, Wokingham\, United Kingdom
CATEGORIES:Drop-In Session
ORGANIZER;CN="EARA":MAILTO:info@evendons-area.org.uk
END:VEVENT
BEGIN:VEVENT
DTSTART;TZID=Europe/London:20220817T190000
DTEND;TZID=Europe/London:20220817T210000
DTSTAMP:20260425T115503
CREATED:20220811T115630Z
LAST-MODIFIED:20220811T115630Z
UID:1267-1660762800-1660770000@evendons-area.org.uk
SUMMARY:Public Drop-in Session for Advice on Planning Objection
DESCRIPTION:Meet members of the Save our Blagrove Campaign. \nAsk your questions about the Berkeley Homes Planning Application at Wokingham Evendons Area. \nPlease come along and ask any questions you may have. \nGet advice on how to object on the council Planning Portal.
URL:https://evendons-area.org.uk/event/public-drop-in-session-for-advice-on-planning-objection-2/
LOCATION:Two Poplars Public House\, RG41 2NU
CATEGORIES:Drop-In Session
END:VEVENT
BEGIN:VEVENT
DTSTART;TZID=Europe/London:20220818T100000
DTEND;TZID=Europe/London:20220818T110000
DTSTAMP:20260425T115503
CREATED:20220811T115913Z
LAST-MODIFIED:20220811T115913Z
UID:1269-1660816800-1660820400@evendons-area.org.uk
SUMMARY:Public Drop-in Session for Advice on Planning Objection
DESCRIPTION:Meet members of the Save our Blagrove Campaign. \nAsk your questions about the Berkeley Homes Planning Application at Wokingham Evendons Area. \nPlease come along and ask any questions you may have. \nGet advice on how to object on the council Planning Portal.
URL:https://evendons-area.org.uk/event/public-drop-in-session-for-advice-on-planning-objection-3/
LOCATION:Kimel Cafe\, Evendons Lane\, Wokingham\, United Kingdom
CATEGORIES:Drop-In Session
ORGANIZER;CN="EARA":MAILTO:info@evendons-area.org.uk
END:VEVENT
BEGIN:VEVENT
DTSTART;TZID=Europe/London:20220819T190000
DTEND;TZID=Europe/London:20220819T210000
DTSTAMP:20260425T115503
CREATED:20220811T120447Z
LAST-MODIFIED:20220811T120447Z
UID:1271-1660935600-1660942800@evendons-area.org.uk
SUMMARY:Public Drop-in Session for Advice on Planning Objection
DESCRIPTION:Meet members of the Save our Blagrove Campaign. \nAsk your questions about the Berkeley Homes Planning Application at Wokingham Evendons Area. \nPlease come along and ask any questions you may have. \nGet advice on how to object on the council Planning Portal.
URL:https://evendons-area.org.uk/event/public-drop-in-session-for-advice-on-planning-objection-4/
LOCATION:Leathern Bottel
CATEGORIES:Drop-In Session
ORGANIZER;CN="EARA":MAILTO:info@evendons-area.org.uk
END:VEVENT
BEGIN:VEVENT
DTSTART;TZID=Europe/London:20220830T193000
DTEND;TZID=Europe/London:20220830T210000
DTSTAMP:20260425T115503
CREATED:20220811T114537Z
LAST-MODIFIED:20220811T114537Z
UID:1262-1661887800-1661893200@evendons-area.org.uk
SUMMARY:Committee Meeting
DESCRIPTION:Committee Meeting – Look at campaigns\, leafleting etc. \nUpdates from all \nNews on Planning Application \nAny other business
URL:https://evendons-area.org.uk/event/committee-meeting-6/
LOCATION:Two Poplars Public House\, RG41 2NU
CATEGORIES:Meeting
ORGANIZER;CN="EARA":MAILTO:info@evendons-area.org.uk
END:VEVENT
END:VCALENDAR